BEGIN:VCALENDAR
VERSION:2.0
PRODID:-//Squarespace Inc/Squarespace 6//v6//EN
BEGIN:VEVENT
UID:5c7860a84192026a14e8b47b@squarespace.com
DTSTAMP:20190326T045706Z
DTSTART:20190612T233000Z
DTEND:20190613T000000Z
SUMMARY:Accessibility Doesn't Care About Disability - Just How Accessible i
 s your Event?
END:VEVENT
END:VCALENDAR
