BEGIN:VCALENDAR
VERSION:2.0
PRODID:-//Squarespace Inc/Squarespace 6//v6//EN
BEGIN:VEVENT
UID:5c9899b84192028641c4b8dd@squarespace.com
DTSTAMP:20190606T121936Z
DTSTART:20190613T052000Z
DTEND:20190613T053500Z
SUMMARY:Afternoon Tea
END:VEVENT
END:VCALENDAR
