BEGIN:VCALENDAR
VERSION:2.0
PRODID:-//Squarespace Inc/Squarespace 6//v6//EN
BEGIN:VEVENT
UID:5c78ac5b9140b71d335fe6d1@squarespace.com
DTSTAMP:20190326T045538Z
DTSTART:20190612T225500Z
DTEND:20190612T232500Z
SUMMARY:The Amazing Race: How to Plan &amp\; Execute Multiple Events Worldw
 ide
END:VEVENT
END:VCALENDAR
