BEGIN:VCALENDAR
VERSION:2.0
PRODID:-//Squarespace Inc/Squarespace 6//v6//EN
BEGIN:VEVENT
UID:5c9873bc24a694bdfd562540@squarespace.com
DTSTAMP:20190326T100132Z
DTSTART:20190613T035000Z
DTEND:20190613T043000Z
SUMMARY:TEG &amp\; Basketball Australia: Planning a first time event in Mel
 bourne for over 90 000 basketball fans.
END:VEVENT
END:VCALENDAR
