BEGIN:VCALENDAR
VERSION:2.0
PRODID:-//Squarespace Inc/Squarespace 6//v6//EN
BEGIN:VEVENT
UID:5c9874eee4966b0c56f02332@squarespace.com
DTSTAMP:20190610T102809Z
DTSTART:20190613T044000Z
DTEND:20190613T052000Z
SUMMARY:Blackmores Sydney Running Festival\, Distinguished Gentlman's Ride 
 and One Wave - How to Remain Authentic when Raising Money and Awareness at 
 Your Event
END:VEVENT
END:VCALENDAR
