BEGIN:VCALENDAR
VERSION:2.0
PRODID:-//Squarespace Inc/Squarespace 6//v6//EN
BEGIN:VEVENT
UID:5c98955153450a28e4336736@squarespace.com
DTSTAMP:20190606T122116Z
DTSTART:20190613T070500Z
DTEND:20190613T070800Z
SUMMARY:Closing Address
END:VEVENT
END:VCALENDAR
