BEGIN:VCALENDAR
VERSION:2.0
PRODID:-//Squarespace Inc/Squarespace 6//v6//EN
BEGIN:VEVENT
UID:5c986c2315fcc0e0be8ab834@squarespace.com
DTSTAMP:20190326T191122Z
DTSTART:20190613T010000Z
DTEND:20190613T014000Z
SUMMARY:SafeWork NSW: Do you have the Confidence to take Risk at your Event
 ?  Demystifying Event Work Health and Safety Due Diligence
END:VEVENT
END:VCALENDAR
