BEGIN:VCALENDAR
VERSION:2.0
PRODID:-//Squarespace Inc/Squarespace 6//v6//EN
BEGIN:VEVENT
UID:5c987461fa0d60765c4c8d95@squarespace.com
DTSTAMP:20190610T102545Z
DTSTART:20190613T035000Z
DTEND:20190613T043000Z
SUMMARY:Adelaide Fringe Festival &amp\; The Sydney Gay and Lesbian Mardi Gr
 as: How do you gain the best result for both Sponsors and your Event ?
END:VEVENT
END:VCALENDAR
