BEGIN:VCALENDAR
VERSION:2.0
PRODID:-//Squarespace Inc/Squarespace 6//v6//EN
BEGIN:VEVENT
UID:5c987c0cc67c2f000110f952@squarespace.com
DTSTAMP:20190612T120140Z
DTSTART:20190613T053500Z
DTEND:20190613T061500Z
SUMMARY:Outdoor food\, beverage and cultural events – integrating events in
 to high profile retail precincts\; the challenges and opportunities and th
 e keys to success. 
END:VEVENT
END:VCALENDAR
