BEGIN:VCALENDAR
VERSION:2.0
PRODID:-//Squarespace Inc/Squarespace 6//v6//EN
BEGIN:VEVENT
UID:5c78ad29652deacf0fb22002@squarespace.com
DTSTAMP:20190326T093713Z
DTSTART:20190613T010000Z
DTEND:20190613T014000Z
SUMMARY:Moonlight Cinema &amp\; Woodford Folk Festival  - How Do Hallmark E
 vents Survive and Thrive for Decades?
END:VEVENT
END:VCALENDAR
