BEGIN:VCALENDAR
VERSION:2.0
PRODID:-//Squarespace Inc/Squarespace 6//v6//EN
BEGIN:VEVENT
UID:5c98804c971a182977a21b46@squarespace.com
DTSTAMP:20190611T003058Z
DTSTART:20190613T062500Z
DTEND:20190613T070500Z
SUMMARY:HARM MINIMISATION - Managing the Relationship between Audience Beha
 viour and On-Ground Controls
END:VEVENT
END:VCALENDAR
