BEGIN:VCALENDAR
VERSION:2.0
PRODID:-//Squarespace Inc/Squarespace 6//v6//EN
BEGIN:VEVENT
UID:5c9897dbfa0d60765c4d39ae@squarespace.com
DTSTAMP:20190326T022435Z
DTSTART:20190613T030000Z
DTEND:20190613T035000Z
SUMMARY:Lunch
END:VEVENT
END:VCALENDAR
