BEGIN:VCALENDAR
VERSION:2.0
PRODID:-//Squarespace Inc/Squarespace 6//v6//EN
BEGIN:VEVENT
UID:5c9875c90d9297aa15acd570@squarespace.com
DTSTAMP:20190606T121909Z
DTSTART:20190613T044000Z
DTEND:20190613T052000Z
SUMMARY:Miami Dolphins: Event Legacy and Community Engagement - What is you
 r event leaving behind?  
END:VEVENT
END:VCALENDAR
