BEGIN:VCALENDAR
VERSION:2.0
PRODID:-//Squarespace Inc/Squarespace 6//v6//EN
BEGIN:VEVENT
UID:5c9896649140b79a9b42e7f7@squarespace.com
DTSTAMP:20190326T022003Z
DTSTART:20190613T004000Z
DTEND:20190613T010000Z
SUMMARY:Morning Tea
END:VEVENT
END:VCALENDAR
