BEGIN:VCALENDAR
VERSION:2.0
PRODID:-//Squarespace Inc/Squarespace 6//v6//EN
BEGIN:VEVENT
UID:5c987b32b208fc2872850f89@squarespace.com
DTSTAMP:20190606T122004Z
DTSTART:20190613T053500Z
DTEND:20190613T061500Z
SUMMARY:The Mushroom Group - Dirty Dancing: Providing an Immersive Cinema E
 xperience 
END:VEVENT
END:VCALENDAR
