BEGIN:VCALENDAR
VERSION:2.0
PRODID:-//Squarespace Inc/Squarespace 6//v6//EN
BEGIN:VEVENT
UID:5c785f741905f46a4b10585b@squarespace.com
DTSTAMP:20190326T045502Z
DTSTART:20190612T225000Z
DTEND:20190612T225500Z
SUMMARY:Opening Address
END:VEVENT
END:VCALENDAR
