BEGIN:VCALENDAR
VERSION:2.0
PRODID:-//Squarespace Inc/Squarespace 6//v6//EN
BEGIN:VEVENT
UID:5c78acd64785d329e43faf18@squarespace.com
DTSTAMP:20190326T222345Z
DTSTART:20190612T213000Z
DTEND:20190612T223000Z
SUMMARY:Vivid Sydney\, Sydney New Year's Eve\, Australia Day Celebrations - 
 Tour the Event Site with the Experts
END:VEVENT
END:VCALENDAR
