BEGIN:VCALENDAR
VERSION:2.0
PRODID:-//Squarespace Inc/Squarespace 6//v6//EN
BEGIN:VEVENT
UID:5c78ad05c8302509fb2203a0@squarespace.com
DTSTAMP:20190326T045844Z
DTSTART:20190613T001000Z
DTEND:20190613T004000Z
SUMMARY:America's Cup to Sail GP - Bringing a Luxury Event to Sydney Harbou
 r
END:VEVENT
END:VCALENDAR
