BEGIN:VCALENDAR
VERSION:2.0
PRODID:-//Squarespace Inc/Squarespace 6//v6//EN
BEGIN:VEVENT
UID:5c987268b208fc287284e2dc@squarespace.com
DTSTAMP:20190326T050001Z
DTSTART:20190613T015000Z
DTEND:20190613T023000Z
SUMMARY:Samsung Australia: Engaging Users in an Amazing Activation at Vivid 
 Sydney with a Visitation of 133 489 people.
END:VEVENT
END:VCALENDAR
