BEGIN:VCALENDAR
VERSION:2.0
PRODID:-//Squarespace Inc/Squarespace 6//v6//EN
BEGIN:VEVENT
UID:5c78acf1e79c709fbecf1099@squarespace.com
DTSTAMP:20190326T045812Z
DTSTART:20190613T001000Z
DTEND:20190613T004000Z
SUMMARY:Glastonbury\, SXSW\, Beijing Olympics and Redbull UK - Securing and 
 Safely Operating the Biggest Events in the World 
END:VEVENT
END:VCALENDAR
