BEGIN:VCALENDAR
VERSION:2.0
PRODID:-//Squarespace Inc/Squarespace 6//v6//EN
BEGIN:VEVENT
UID:5c987340f9619a337b8bb4b3@squarespace.com
DTSTAMP:20190610T102357Z
DTSTART:20190613T024000Z
DTEND:20190613T030000Z
SUMMARY:Sydney Festival - Presented by iAuditor
END:VEVENT
END:VCALENDAR
