BEGIN:VCALENDAR
VERSION:2.0
PRODID:-//Squarespace Inc/Squarespace 6//v6//EN
BEGIN:VEVENT
UID:5c98960d53450a28e4336a84@squarespace.com
DTSTAMP:20190606T122058Z
DTSTART:20190613T070800Z
DTEND:20190613T080000Z
SUMMARY:Vivid Networking Drinks
END:VEVENT
END:VCALENDAR
