BEGIN:VCALENDAR
VERSION:2.0
PRODID:-//Squarespace Inc/Squarespace 6//v6//EN
BEGIN:VEVENT
UID:5c78609d7817f7c9ea5cb102@squarespace.com
DTSTAMP:20190603T004645Z
DTSTART:20190612T224500Z
DTEND:20190612T225000Z
SUMMARY:Welcome to Country
END:VEVENT
END:VCALENDAR
